BEGIN:VCALENDAR
VERSION:2.0
PRODID:-//Epsilon Xi Lambda - ECPv6.15.20//NONSGML v1.0//EN
CALSCALE:GREGORIAN
METHOD:PUBLISH
X-WR-CALNAME:Epsilon Xi Lambda
X-ORIGINAL-URL:https://exl1951.org
X-WR-CALDESC:Events for Epsilon Xi Lambda
REFRESH-INTERVAL;VALUE=DURATION:PT1H
X-Robots-Tag:noindex
X-PUBLISHED-TTL:PT1H
BEGIN:VTIMEZONE
TZID:UTC
BEGIN:STANDARD
TZOFFSETFROM:+0000
TZOFFSETTO:+0000
TZNAME:UTC
DTSTART:20210101T000000
END:STANDARD
END:VTIMEZONE
BEGIN:VEVENT
DTSTART;TZID=UTC:20220420T000000
DTEND;TZID=UTC:20220421T000000
DTSTAMP:20260423T185207
CREATED:20220406T222512Z
LAST-MODIFIED:20220406T222512Z
UID:2449-1650412800-1650499200@exl1951.org
SUMMARY:Neck Tie Tying Clinic
DESCRIPTION:Our Chapter will host a neck tie tying clinic at Greenville High School for senior males. See the flyer for more details!!!
URL:https://exl1951.org/events/neck-tie-tying-clinic/
LOCATION:Greenville High School\, 419 E Robertshaw St\, Greenville\, MS\, MS\, 38701\, United States
ATTACH;FMTTYPE=image/png:https://exl1951.org/wp-content/uploads/2022/04/4-20-2022-Greenville-HS-Neck-Tie-Tying-Workshop-1.png
END:VEVENT
END:VCALENDAR